BEGIN:VCALENDAR
VERSION:2.0
PRODID:-//Northgate Market - ECPv6.15.20//NONSGML v1.0//EN
CALSCALE:GREGORIAN
METHOD:PUBLISH
X-WR-CALNAME:Northgate Market
X-ORIGINAL-URL:https://www.northgatemarket.com
X-WR-CALDESC:Events for Northgate Market
REFRESH-INTERVAL;VALUE=DURATION:PT1H
X-Robots-Tag:noindex
X-PUBLISHED-TTL:PT1H
BEGIN:VTIMEZONE
TZID:America/Los_Angeles
BEGIN:DAYLIGHT
TZOFFSETFROM:-0800
TZOFFSETTO:-0700
TZNAME:PDT
DTSTART:20220313T100000
END:DAYLIGHT
BEGIN:STANDARD
TZOFFSETFROM:-0700
TZOFFSETTO:-0800
TZNAME:PST
DTSTART:20221106T090000
END:STANDARD
BEGIN:DAYLIGHT
TZOFFSETFROM:-0800
TZOFFSETTO:-0700
TZNAME:PDT
DTSTART:20230312T100000
END:DAYLIGHT
BEGIN:STANDARD
TZOFFSETFROM:-0700
TZOFFSETTO:-0800
TZNAME:PST
DTSTART:20231105T090000
END:STANDARD
BEGIN:DAYLIGHT
TZOFFSETFROM:-0800
TZOFFSETTO:-0700
TZNAME:PDT
DTSTART:20240310T100000
END:DAYLIGHT
BEGIN:STANDARD
TZOFFSETFROM:-0700
TZOFFSETTO:-0800
TZNAME:PST
DTSTART:20241103T090000
END:STANDARD
BEGIN:DAYLIGHT
TZOFFSETFROM:-0800
TZOFFSETTO:-0700
TZNAME:PDT
DTSTART:20250309T100000
END:DAYLIGHT
BEGIN:STANDARD
TZOFFSETFROM:-0700
TZOFFSETTO:-0800
TZNAME:PST
DTSTART:20251102T090000
END:STANDARD
END:VTIMEZONE
BEGIN:VEVENT
DTSTART;TZID=America/Los_Angeles:20240427T110000
DTEND;TZID=America/Los_Angeles:20240427T130000
DTSTAMP:20260421T031130
CREATED:20240409T184231Z
LAST-MODIFIED:20240409T184243Z
UID:10000528-1714215600-1714222800@www.northgatemarket.com
SUMMARY:Miguelito's Kids Classes – Make Tortas del Chavos del 8
DESCRIPTION:Date: 4/27/2024 – Time: 11:00 AM – 1:00 PM
URL:https://www.northgatemarket.com/community-event/miguelitos-kids-classes-make-tortas-del-chavos-del-8-3
LOCATION:Northgate Market #6 – La Puente\, 831 North Hacienda Blvd\, La Puente\, CA\, United States
CATEGORIES:Dia del Niño Event,Northgate Market
ATTACH;FMTTYPE=image/png:https://www.northgatemarket.com/wp-content/uploads/2023/11/Miguelitos.png
END:VEVENT
BEGIN:VEVENT
DTSTART;TZID=America/Los_Angeles:20240426T160000
DTEND;TZID=America/Los_Angeles:20240426T190000
DTSTAMP:20260421T031130
CREATED:20240409T071339Z
LAST-MODIFIED:20240409T071339Z
UID:10000525-1714147200-1714158000@www.northgatemarket.com
SUMMARY:Farmacia Familiar Blood Pressure & Glucose Screenings
DESCRIPTION:
URL:https://www.northgatemarket.com/community-event/farmacia-familiar-blood-pressure-glucose-screenings-5
LOCATION:Northgate Market #18 – 770 S Harbor Santa Ana\, 770 S Harbor Blvd\, Santa Ana\, CA\, 92703\, United States
CATEGORIES:Northgate Market
END:VEVENT
BEGIN:VEVENT
DTSTART;TZID=America/Los_Angeles:20240223T160000
DTEND;TZID=America/Los_Angeles:20240223T190000
DTSTAMP:20260421T031130
CREATED:20240131T214149Z
LAST-MODIFIED:20240131T214149Z
UID:10000483-1708704000-1708714800@www.northgatemarket.com
SUMMARY:Farmacia Familiar Flu Shots\, Blood Pressure & Glucose Screenings
DESCRIPTION:
URL:https://www.northgatemarket.com/community-event/farmacia-familiar-flu-shots-blood-pressure-glucose-screenings-3
LOCATION:Northgate Market #18 – 770 S Harbor Santa Ana\, 770 S Harbor Blvd\, Santa Ana\, CA\, 92703\, United States
CATEGORIES:Northgate Market
END:VEVENT
BEGIN:VEVENT
DTSTART;TZID=America/Los_Angeles:20240208T090000
DTEND;TZID=America/Los_Angeles:20240208T140000
DTSTAMP:20260421T031130
CREATED:20240131T205607Z
LAST-MODIFIED:20240131T205607Z
UID:10000460-1707382800-1707400800@www.northgatemarket.com
SUMMARY:AltaMed Blood Pressure\, Glucose\, & Cholesterol Screening
DESCRIPTION:Store 6 (9:00 AM – 1:00 PM) \nStore 18 (10:00 AM – 2:00 PM)
URL:https://www.northgatemarket.com/community-event/altamed-blood-pressure-glucose-cholesterol-screening-3
LOCATION:Northgate Market #18 – 770 S Harbor Santa Ana\, 770 S Harbor Blvd\, Santa Ana\, CA\, 92703\, United States
CATEGORIES:Northgate Market
END:VEVENT
BEGIN:VEVENT
DTSTART;TZID=America/Los_Angeles:20240119T150000
DTEND;TZID=America/Los_Angeles:20240119T180000
DTSTAMP:20260421T031130
CREATED:20240111T203655Z
LAST-MODIFIED:20240111T203655Z
UID:10000434-1705676400-1705687200@www.northgatemarket.com
SUMMARY:Farmacia Familiar Flu Shots\, Blood Pressure and Glucose Screenings
DESCRIPTION:
URL:https://www.northgatemarket.com/community-event/farmacia-familiar-flu-shots-blood-pressure-and-glucose-screenings-4
LOCATION:Northgate Market #18 – 770 S Harbor Santa Ana\, 770 S Harbor Blvd\, Santa Ana\, CA\, 92703\, United States
CATEGORIES:Northgate Market
END:VEVENT
BEGIN:VEVENT
DTSTART;TZID=America/Los_Angeles:20231031T100000
DTEND;TZID=America/Los_Angeles:20231031T150000
DTSTAMP:20260421T031130
CREATED:20231003T180200Z
LAST-MODIFIED:20231003T180200Z
UID:10000346-1698746400-1698764400@www.northgatemarket.com
SUMMARY:Flu Clinic – Santa Ana
DESCRIPTION:
URL:https://www.northgatemarket.com/community-event/flu-clinic-santa-ana
LOCATION:Northgate Market #18 – 770 S Harbor Santa Ana\, 770 S Harbor Blvd\, Santa Ana\, CA\, 92703\, United States
END:VEVENT
BEGIN:VEVENT
DTSTART;TZID=America/Los_Angeles:20231020T150000
DTEND;TZID=America/Los_Angeles:20231020T170000
DTSTAMP:20260421T031130
CREATED:20231003T173743Z
LAST-MODIFIED:20231003T173743Z
UID:10000324-1697814000-1697821200@www.northgatemarket.com
SUMMARY:UCI Brain Health Education Table – Santa Ana
DESCRIPTION:
URL:https://www.northgatemarket.com/community-event/uci-brain-health-education-table-santa-ana-2
LOCATION:Northgate Market #18 – 770 S Harbor Santa Ana\, 770 S Harbor Blvd\, Santa Ana\, CA\, 92703\, United States
END:VEVENT
BEGIN:VEVENT
DTSTART;VALUE=DATE:20231012
DTEND;VALUE=DATE:20231013
DTSTAMP:20260421T031130
CREATED:20231003T171927Z
LAST-MODIFIED:20231003T171927Z
UID:10000305-1697068800-1697155199@www.northgatemarket.com
SUMMARY:Phoenix House Mental Health Education Table – Santa Ana
DESCRIPTION:
URL:https://www.northgatemarket.com/community-event/phoenix-house-mental-health-education-table-santa-ana
LOCATION:Northgate Market #18 – 770 S Harbor Santa Ana\, 770 S Harbor Blvd\, Santa Ana\, CA\, 92703\, United States
END:VEVENT
BEGIN:VEVENT
DTSTART;TZID=America/Los_Angeles:20231005T160000
DTEND;TZID=America/Los_Angeles:20231005T190000
DTSTAMP:20260421T031130
CREATED:20231003T073818Z
LAST-MODIFIED:20231003T073827Z
UID:10000292-1696521600-1696532400@www.northgatemarket.com
SUMMARY:Farmacia Familiar Flu shots\, Blood Pressure & Glucose screenings – Santa Ana
DESCRIPTION:
URL:https://www.northgatemarket.com/community-event/farmacia-familiar-flu-shots-blood-pressure-glucose-screenings-santa-ana
LOCATION:Northgate Market #18 – 770 S Harbor Santa Ana\, 770 S Harbor Blvd\, Santa Ana\, CA\, 92703\, United States
END:VEVENT
BEGIN:VEVENT
DTSTART;TZID=America/Los_Angeles:20230928T100000
DTEND;TZID=America/Los_Angeles:20230928T140000
DTSTAMP:20260421T031130
CREATED:20230907T031502Z
LAST-MODIFIED:20230907T031502Z
UID:10000282-1695895200-1695909600@www.northgatemarket.com
SUMMARY:Cal Optima Resource Table - Santa Ana
DESCRIPTION:
URL:https://www.northgatemarket.com/community-event/cal-optima-resource-table-santa-ana
LOCATION:Northgate Market #18 – 770 S Harbor Santa Ana\, 770 S Harbor Blvd\, Santa Ana\, CA\, 92703\, United States
END:VEVENT
BEGIN:VEVENT
DTSTART;TZID=America/Los_Angeles:20230927T090000
DTEND;TZID=America/Los_Angeles:20230927T140000
DTSTAMP:20260421T031130
CREATED:20230907T030853Z
LAST-MODIFIED:20230907T030853Z
UID:10000278-1695805200-1695823200@www.northgatemarket.com
SUMMARY:Alta Med Blood Pressure\, Body Mass Index Screenings - Santa Ana
DESCRIPTION:
URL:https://www.northgatemarket.com/community-event/alta-med-blood-pressure-body-mass-index-screenings-santa-ana-3
LOCATION:Northgate Market #18 – 770 S Harbor Santa Ana\, 770 S Harbor Blvd\, Santa Ana\, CA\, 92703\, United States
END:VEVENT
BEGIN:VEVENT
DTSTART;TZID=America/Los_Angeles:20230921T160000
DTEND;TZID=America/Los_Angeles:20230921T190000
DTSTAMP:20260421T031130
CREATED:20230907T025823Z
LAST-MODIFIED:20230907T025823Z
UID:10000267-1695312000-1695322800@www.northgatemarket.com
SUMMARY:Farmacia Familiar Flu Shots\, Covid Vaccines\, Blood Pressure & Glucose Screenings - Santa Ana
DESCRIPTION:
URL:https://www.northgatemarket.com/community-event/farmacia-familiar-flu-shots-covid-vaccines-blood-pressure-glucose-screenings-santa-ana-2
LOCATION:Northgate Market #18 – 770 S Harbor Santa Ana\, 770 S Harbor Blvd\, Santa Ana\, CA\, 92703\, United States
END:VEVENT
BEGIN:VEVENT
DTSTART;TZID=America/Los_Angeles:20230912T090000
DTEND;TZID=America/Los_Angeles:20230912T110000
DTSTAMP:20260421T031130
CREATED:20230907T015155Z
LAST-MODIFIED:20230907T015155Z
UID:10000246-1694509200-1694516400@www.northgatemarket.com
SUMMARY:Orange County Public Health Dept Mental Health Resource Table - Santa Ana
DESCRIPTION:
URL:https://www.northgatemarket.com/community-event/orange-county-public-health-dept-mental-health-resource-table-santa-ana
LOCATION:Northgate Market #18 – 770 S Harbor Santa Ana\, 770 S Harbor Blvd\, Santa Ana\, CA\, 92703\, United States
END:VEVENT
BEGIN:VEVENT
DTSTART;TZID=America/Los_Angeles:20230824T100000
DTEND;TZID=America/Los_Angeles:20230824T150000
DTSTAMP:20260421T031130
CREATED:20230816T233819Z
LAST-MODIFIED:20230816T233819Z
UID:10000228-1692871200-1692889200@www.northgatemarket.com
SUMMARY:Blood Pressure & Glucose Screenings - Santa Ana
DESCRIPTION:
URL:https://www.northgatemarket.com/community-event/blood-pressure-glucose-screenings-santa-ana
LOCATION:Northgate Market #18 – 770 S Harbor Santa Ana\, 770 S Harbor Blvd\, Santa Ana\, CA\, 92703\, United States
END:VEVENT
BEGIN:VEVENT
DTSTART;TZID=America/Los_Angeles:20230818T140000
DTEND;TZID=America/Los_Angeles:20230818T170000
DTSTAMP:20260421T031130
CREATED:20230816T233059Z
LAST-MODIFIED:20230816T233059Z
UID:10000220-1692367200-1692378000@www.northgatemarket.com
SUMMARY:Back to School Parking Lot Event w/health screenings for students - Santa Ana
DESCRIPTION:
URL:https://www.northgatemarket.com/community-event/back-to-school-parking-lot-event-w-health-screenings-for-students-santa-ana
LOCATION:Northgate Market #18 – 770 S Harbor Santa Ana\, 770 S Harbor Blvd\, Santa Ana\, CA\, 92703\, United States
END:VEVENT
BEGIN:VEVENT
DTSTART;TZID=America/Los_Angeles:20230808T110000
DTEND;TZID=America/Los_Angeles:20230808T130000
DTSTAMP:20260421T031130
CREATED:20230816T225156Z
LAST-MODIFIED:20230816T225156Z
UID:10000203-1691492400-1691499600@www.northgatemarket.com
SUMMARY:UCI Heart Health Educational Resouces - Santa Ana
DESCRIPTION:
URL:https://www.northgatemarket.com/community-event/uci-heart-health-educational-resouces-santa-ana
LOCATION:Northgate Market #18 – 770 S Harbor Santa Ana\, 770 S Harbor Blvd\, Santa Ana\, CA\, 92703\, United States
END:VEVENT
BEGIN:VEVENT
DTSTART;TZID=America/Los_Angeles:20230804T100000
DTEND;TZID=America/Los_Angeles:20230804T140000
DTSTAMP:20260421T031130
CREATED:20230816T224533Z
LAST-MODIFIED:20230816T224533Z
UID:10000198-1691143200-1691157600@www.northgatemarket.com
SUMMARY:Fristers Resource Table for Young Parents - Santa Ana
DESCRIPTION:
URL:https://www.northgatemarket.com/community-event/fristers-resource-table-for-young-parents-santa-ana
LOCATION:Northgate Market #18 – 770 S Harbor Santa Ana\, 770 S Harbor Blvd\, Santa Ana\, CA\, 92703\, United States
END:VEVENT
BEGIN:VEVENT
DTSTART;TZID=America/Los_Angeles:20230531T100000
DTEND;TZID=America/Los_Angeles:20230531T140000
DTSTAMP:20260421T031130
CREATED:20230510T174604Z
LAST-MODIFIED:20230510T174604Z
UID:10000169-1685527200-1685541600@www.northgatemarket.com
SUMMARY:Alta Med Blood Pressure & Body Mass Index - Santa Ana
DESCRIPTION:
URL:https://www.northgatemarket.com/community-event/alta-med-blood-pressure-body-mass-index-santa-ana
LOCATION:Northgate Market #18 – 770 S Harbor Santa Ana\, 770 S Harbor Blvd\, Santa Ana\, CA\, 92703\, United States
END:VEVENT
BEGIN:VEVENT
DTSTART;TZID=America/Los_Angeles:20230517T100000
DTEND;TZID=America/Los_Angeles:20230517T120000
DTSTAMP:20260421T031130
CREATED:20230510T170021Z
LAST-MODIFIED:20230510T170021Z
UID:10000143-1684317600-1684324800@www.northgatemarket.com
SUMMARY:Latino Health Access Resource Table - Santa Ana
DESCRIPTION:
URL:https://www.northgatemarket.com/community-event/latino-health-access-resource-table-santa-ana-3
LOCATION:Northgate Market #18 – 770 S Harbor Santa Ana\, 770 S Harbor Blvd\, Santa Ana\, CA\, 92703\, United States
END:VEVENT
BEGIN:VEVENT
DTSTART;TZID=America/Los_Angeles:20230511T160000
DTEND;TZID=America/Los_Angeles:20230511T190000
DTSTAMP:20260421T031130
CREATED:20230510T162006Z
LAST-MODIFIED:20230510T165627Z
UID:10000135-1683820800-1683831600@www.northgatemarket.com
SUMMARY:Familia Familiar Blood Pressure & Glucose Screenings Woman’s Education Table & Stress Relief Activity - Santa Ana
DESCRIPTION:
URL:https://www.northgatemarket.com/community-event/familia-familiar-blood-pressure-glucose-screenings-womans-education-table-stress-relief-activity
LOCATION:Northgate Market #18 – 770 S Harbor Santa Ana\, 770 S Harbor Blvd\, Santa Ana\, CA\, 92703\, United States
END:VEVENT
BEGIN:VEVENT
DTSTART;TZID=America/Los_Angeles:20230425T090000
DTEND;TZID=America/Los_Angeles:20230425T140000
DTSTAMP:20260421T031130
CREATED:20230406T153336Z
LAST-MODIFIED:20230406T153336Z
UID:10000112-1682413200-1682431200@www.northgatemarket.com
SUMMARY:Alta Med Blood Pressure & Glucose Screenings - Santa Ana
DESCRIPTION:
URL:https://www.northgatemarket.com/community-event/alta-med-blood-pressure-glucose-screenings-santa-ana-3
LOCATION:Northgate Market #18 – 770 S Harbor Santa Ana\, 770 S Harbor Blvd\, Santa Ana\, CA\, 92703\, United States
END:VEVENT
BEGIN:VEVENT
DTSTART;TZID=America/Los_Angeles:20230414T100000
DTEND;TZID=America/Los_Angeles:20230414T140000
DTSTAMP:20260421T031130
CREATED:20230406T151836Z
LAST-MODIFIED:20230406T151836Z
UID:10000097-1681466400-1681480800@www.northgatemarket.com
SUMMARY:Fristers Resource Table for Pregnant Women and Families - Anaheim
DESCRIPTION:
URL:https://www.northgatemarket.com/community-event/fristers-resource-table-for-pregnant-women-and-families-anaheim
LOCATION:Northgate Market #18 – 770 S Harbor Santa Ana\, 770 S Harbor Blvd\, Santa Ana\, CA\, 92703\, United States
END:VEVENT
BEGIN:VEVENT
DTSTART;TZID=America/Los_Angeles:20230412T160000
DTEND;TZID=America/Los_Angeles:20230412T190000
DTSTAMP:20260421T031130
CREATED:20230406T151355Z
LAST-MODIFIED:20230406T151355Z
UID:10000093-1681315200-1681326000@www.northgatemarket.com
SUMMARY:Farmacia Familiar Blood Pressure\, Glucose\, and Cholesterol Screenings - Santa Ana
DESCRIPTION:
URL:https://www.northgatemarket.com/community-event/farmacia-familiar-blood-pressure-glucose-and-cholesterol-screenings-santa-ana
LOCATION:Northgate Market #18 – 770 S Harbor Santa Ana\, 770 S Harbor Blvd\, Santa Ana\, CA\, 92703\, United States
END:VEVENT
BEGIN:VEVENT
DTSTART;TZID=America/Los_Angeles:20230403T140000
DTEND;TZID=America/Los_Angeles:20230403T160000
DTSTAMP:20260421T031130
CREATED:20230406T154344Z
LAST-MODIFIED:20230406T154344Z
UID:10000123-1680530400-1680537600@www.northgatemarket.com
SUMMARY:Latino Health Access Resource Table - Santa Ana
DESCRIPTION:
URL:https://www.northgatemarket.com/community-event/latino-health-access-resource-table-santa-ana-2
LOCATION:Northgate Market #18 – 770 S Harbor Santa Ana\, 770 S Harbor Blvd\, Santa Ana\, CA\, 92703\, United States
END:VEVENT
BEGIN:VEVENT
DTSTART;TZID=America/Los_Angeles:20230128T150000
DTEND;TZID=America/Los_Angeles:20230128T180000
DTSTAMP:20260421T031130
CREATED:20230117T170940Z
LAST-MODIFIED:20230117T170940Z
UID:10000035-1674918000-1674928800@www.northgatemarket.com
SUMMARY:COVID-19 Vaccines\, Flu Shots & Nasal Sprays for Children - Santa Ana
DESCRIPTION:
URL:https://www.northgatemarket.com/community-event/covid-19-vaccines-flu-shots-nasal-sprays-for-children-santa-ana-2
LOCATION:Northgate Market #18 – 770 S Harbor Santa Ana\, 770 S Harbor Blvd\, Santa Ana\, CA\, 92703\, United States
END:VEVENT
END:VCALENDAR