BEGIN:VCALENDAR
VERSION:2.0
PRODID:-//Northgate Market - ECPv6.15.20//NONSGML v1.0//EN
CALSCALE:GREGORIAN
METHOD:PUBLISH
X-ORIGINAL-URL:https://www.northgatemarket.com
X-WR-CALDESC:Events for Northgate Market
REFRESH-INTERVAL;VALUE=DURATION:PT1H
X-Robots-Tag:noindex
X-PUBLISHED-TTL:PT1H
BEGIN:VTIMEZONE
TZID:America/Los_Angeles
BEGIN:DAYLIGHT
TZOFFSETFROM:-0800
TZOFFSETTO:-0700
TZNAME:PDT
DTSTART:20220313T100000
END:DAYLIGHT
BEGIN:STANDARD
TZOFFSETFROM:-0700
TZOFFSETTO:-0800
TZNAME:PST
DTSTART:20221106T090000
END:STANDARD
BEGIN:DAYLIGHT
TZOFFSETFROM:-0800
TZOFFSETTO:-0700
TZNAME:PDT
DTSTART:20230312T100000
END:DAYLIGHT
BEGIN:STANDARD
TZOFFSETFROM:-0700
TZOFFSETTO:-0800
TZNAME:PST
DTSTART:20231105T090000
END:STANDARD
BEGIN:DAYLIGHT
TZOFFSETFROM:-0800
TZOFFSETTO:-0700
TZNAME:PDT
DTSTART:20240310T100000
END:DAYLIGHT
BEGIN:STANDARD
TZOFFSETFROM:-0700
TZOFFSETTO:-0800
TZNAME:PST
DTSTART:20241103T090000
END:STANDARD
BEGIN:DAYLIGHT
TZOFFSETFROM:-0800
TZOFFSETTO:-0700
TZNAME:PDT
DTSTART:20250309T100000
END:DAYLIGHT
BEGIN:STANDARD
TZOFFSETFROM:-0700
TZOFFSETTO:-0800
TZNAME:PST
DTSTART:20251102T090000
END:STANDARD
END:VTIMEZONE
BEGIN:VEVENT
DTSTART;TZID=America/Los_Angeles:20241024T130000
DTEND;TZID=America/Los_Angeles:20241024T170000
DTSTAMP:20260421T015559
CREATED:20241015T183052Z
LAST-MODIFIED:20241015T183052Z
UID:10000567-1729774800-1729789200@www.northgatemarket.com
SUMMARY:USC Vision y Compromiso Outreach Table
DESCRIPTION:
URL:https://www.northgatemarket.com/community-event/usc-vision-y-compromiso-outreach-table-5
LOCATION:Northgate Market #21 –  1410 43rd San Diego\, 1410 43rd St\, San Diego\, CA\, 92113\, United States
CATEGORIES:Northgate Market
END:VEVENT
BEGIN:VEVENT
DTSTART;TZID=America/Los_Angeles:20241021T130000
DTEND;TZID=America/Los_Angeles:20241021T170000
DTSTAMP:20260421T015559
CREATED:20241015T182004Z
LAST-MODIFIED:20241015T182004Z
UID:10000556-1729515600-1729530000@www.northgatemarket.com
SUMMARY:USC Vision y Compromiso Outreach Table
DESCRIPTION:
URL:https://www.northgatemarket.com/community-event/usc-vision-y-compromiso-outreach-table-3
LOCATION:Northgate Market #21 –  1410 43rd San Diego\, 1410 43rd St\, San Diego\, CA\, 92113\, United States
CATEGORIES:Northgate Market
END:VEVENT
BEGIN:VEVENT
DTSTART;TZID=America/Los_Angeles:20241017T150000
DTEND;TZID=America/Los_Angeles:20241017T170000
DTSTAMP:20260421T015559
CREATED:20241015T175630Z
LAST-MODIFIED:20241015T175630Z
UID:10000542-1729177200-1729184400@www.northgatemarket.com
SUMMARY:San Diego County Public Health Dept Mental Health Table
DESCRIPTION:
URL:https://www.northgatemarket.com/community-event/san-diego-county-public-health-dept-mental-health-table-2
LOCATION:Northgate Market #21 –  1410 43rd San Diego\, 1410 43rd St\, San Diego\, CA\, 92113\, United States
CATEGORIES:Northgate Market
END:VEVENT
BEGIN:VEVENT
DTSTART;TZID=America/Los_Angeles:20240427T110000
DTEND;TZID=America/Los_Angeles:20240427T130000
DTSTAMP:20260421T015559
CREATED:20240409T184231Z
LAST-MODIFIED:20240409T184243Z
UID:10000528-1714215600-1714222800@www.northgatemarket.com
SUMMARY:Miguelito's Kids Classes – Make Tortas del Chavos del 8
DESCRIPTION:Date: 4/27/2024 – Time: 11:00 AM – 1:00 PM
URL:https://www.northgatemarket.com/community-event/miguelitos-kids-classes-make-tortas-del-chavos-del-8-3
LOCATION:Northgate Market #6 – La Puente\, 831 North Hacienda Blvd\, La Puente\, CA\, United States
CATEGORIES:Dia del Niño Event,Northgate Market
ATTACH;FMTTYPE=image/png:https://www.northgatemarket.com/wp-content/uploads/2023/11/Miguelitos.png
END:VEVENT
BEGIN:VEVENT
DTSTART;TZID=America/Los_Angeles:20240426T100000
DTEND;TZID=America/Los_Angeles:20240426T140000
DTSTAMP:20260421T015559
CREATED:20240409T071301Z
LAST-MODIFIED:20240409T071301Z
UID:10000524-1714125600-1714140000@www.northgatemarket.com
SUMMARY:Aetna Health Resource Table
DESCRIPTION:
URL:https://www.northgatemarket.com/community-event/aetna-health-resource-table-4
LOCATION:1410 43rd St\, San Diego\, CA\, 92113\, United States
CATEGORIES:Northgate Market
END:VEVENT
BEGIN:VEVENT
DTSTART;TZID=America/Los_Angeles:20240417T100000
DTEND;TZID=America/Los_Angeles:20240417T140000
DTSTAMP:20260421T015559
CREATED:20240409T065759Z
LAST-MODIFIED:20240409T065759Z
UID:10000507-1713348000-1713362400@www.northgatemarket.com
SUMMARY:Aetna Health Resource Table
DESCRIPTION:
URL:https://www.northgatemarket.com/community-event/aetna-health-resource-table-2
LOCATION:1410 43rd St\, San Diego\, CA\, 92113\, United States
CATEGORIES:Northgate Market
END:VEVENT
BEGIN:VEVENT
DTSTART;TZID=America/Los_Angeles:20240417T090000
DTEND;TZID=America/Los_Angeles:20240417T130000
DTSTAMP:20260421T015559
CREATED:20240409T065713Z
LAST-MODIFIED:20240409T065713Z
UID:10000506-1713344400-1713358800@www.northgatemarket.com
SUMMARY:Alta Med Blood Pressure & Glucose Screenings
DESCRIPTION:
URL:https://www.northgatemarket.com/community-event/alta-med-blood-pressure-glucose-screenings-2
LOCATION:Northgate Market #15 – 1010 S. Main Santa Ana\, 1010 S Main St\, Santa Ana\, CA\, 92701\, United States
CATEGORIES:Northgate Market
END:VEVENT
BEGIN:VEVENT
DTSTART;TZID=America/Los_Angeles:20240222T160000
DTEND;TZID=America/Los_Angeles:20240222T190000
DTSTAMP:20260421T015559
CREATED:20240131T213514Z
LAST-MODIFIED:20240131T213959Z
UID:10000477-1708617600-1708628400@www.northgatemarket.com
SUMMARY:San Diego County Public Health Dept. Blood Pressure Screenings
DESCRIPTION:
URL:https://www.northgatemarket.com/community-event/san-diego-county-public-health-dept-blood-pressure-screenings-3
LOCATION:Northgate Market #21 –  1410 43rd San Diego\, 1410 43rd St\, San Diego\, CA\, 92113\, United States
CATEGORIES:Northgate Market
END:VEVENT
BEGIN:VEVENT
DTSTART;TZID=America/Los_Angeles:20230928T090000
DTEND;TZID=America/Los_Angeles:20230928T144500
DTSTAMP:20260421T015559
CREATED:20230907T031220Z
LAST-MODIFIED:20230907T031220Z
UID:10000279-1695891600-1695912300@www.northgatemarket.com
SUMMARY:San Ysidro Health Physical Screenings for Children - San Diego
DESCRIPTION:
URL:https://www.northgatemarket.com/community-event/san-ysidro-health-physical-screenings-for-children-san-diego-3
LOCATION:Northgate Market #21 –  1410 43rd San Diego\, 1410 43rd St\, San Diego\, CA\, 92113\, United States
END:VEVENT
BEGIN:VEVENT
DTSTART;TZID=America/Los_Angeles:20230922T150000
DTEND;TZID=America/Los_Angeles:20230922T170000
DTSTAMP:20260421T015559
CREATED:20230907T025907Z
LAST-MODIFIED:20230907T025907Z
UID:10000268-1695394800-1695402000@www.northgatemarket.com
SUMMARY:San Diego Public Health Dept Mental Health Resource Table - San Diego
DESCRIPTION:
URL:https://www.northgatemarket.com/community-event/san-diego-public-health-dept-mental-health-resource-table-san-diego-3
LOCATION:Northgate Market #21 –  1410 43rd San Diego\, 1410 43rd St\, San Diego\, CA\, 92113\, United States
END:VEVENT
BEGIN:VEVENT
DTSTART;TZID=America/Los_Angeles:20230919T150000
DTEND;TZID=America/Los_Angeles:20230919T170000
DTSTAMP:20260421T015559
CREATED:20230907T025253Z
LAST-MODIFIED:20230907T025253Z
UID:10000261-1695135600-1695142800@www.northgatemarket.com
SUMMARY:San Diego Public Health Dept Mental Health Resource Table - San Diego
DESCRIPTION:
URL:https://www.northgatemarket.com/community-event/san-diego-public-health-dept-mental-health-resource-table-san-diego-2
LOCATION:Northgate Market #21 –  1410 43rd San Diego\, 1410 43rd St\, San Diego\, CA\, 92113\, United States
END:VEVENT
BEGIN:VEVENT
DTSTART;TZID=America/Los_Angeles:20230906T150000
DTEND;TZID=America/Los_Angeles:20230906T170000
DTSTAMP:20260421T015559
CREATED:20230907T013006Z
LAST-MODIFIED:20230907T013006Z
UID:10000237-1694012400-1694019600@www.northgatemarket.com
SUMMARY:San Diego Public Health Dept Mental Health Resource Table - San Diego
DESCRIPTION:
URL:https://www.northgatemarket.com/community-event/san-diego-public-health-dept-mental-health-resource-table-san-diego
LOCATION:Northgate Market #21 –  1410 43rd San Diego\, 1410 43rd St\, San Diego\, CA\, 92113\, United States
END:VEVENT
BEGIN:VEVENT
DTSTART;TZID=America/Los_Angeles:20230802T140000
DTEND;TZID=America/Los_Angeles:20230802T180000
DTSTAMP:20260421T015559
CREATED:20230816T223805Z
LAST-MODIFIED:20230816T223805Z
UID:10000192-1690984800-1690999200@www.northgatemarket.com
SUMMARY:Champions for Health Children's Immunizations\, Blood Pressure & Glucose Screenings - San Diego
DESCRIPTION:
URL:https://www.northgatemarket.com/community-event/champions-for-health-childrens-immunizations-blood-pressure-glucose-screenings-san-diego
LOCATION:Northgate Market #21 –  1410 43rd San Diego\, 1410 43rd St\, San Diego\, CA\, 92113\, United States
END:VEVENT
BEGIN:VEVENT
DTSTART;TZID=America/Los_Angeles:20230531T090000
DTEND;TZID=America/Los_Angeles:20230531T144500
DTSTAMP:20260421T015559
CREATED:20230510T174646Z
LAST-MODIFIED:20230510T174646Z
UID:10000170-1685523600-1685544300@www.northgatemarket.com
SUMMARY:San Ysidro Health Physical Screenings for Children - San Diego
DESCRIPTION:
URL:https://www.northgatemarket.com/community-event/san-ysidro-health-physical-screenings-for-children-san-diego-2
LOCATION:Northgate Market #21 –  1410 43rd San Diego\, 1410 43rd St\, San Diego\, CA\, 92113\, United States
END:VEVENT
BEGIN:VEVENT
DTSTART;TZID=America/Los_Angeles:20230529T100000
DTEND;TZID=America/Los_Angeles:20230529T140000
DTSTAMP:20260421T015559
CREATED:20230510T174313Z
LAST-MODIFIED:20230510T174313Z
UID:10000165-1685354400-1685368800@www.northgatemarket.com
SUMMARY:Services of America Affordable Connectivity Program - San Diego
DESCRIPTION:
URL:https://www.northgatemarket.com/community-event/services-of-america-affordable-connectivity-program-san-diego-2
LOCATION:Northgate Market #21 –  1410 43rd San Diego\, 1410 43rd St\, San Diego\, CA\, 92113\, United States
END:VEVENT
BEGIN:VEVENT
DTSTART;TZID=America/Los_Angeles:20230525T150000
DTEND;TZID=America/Los_Angeles:20230525T170000
DTSTAMP:20260421T015559
CREATED:20230510T203349Z
LAST-MODIFIED:20230510T203349Z
UID:10000188-1685026800-1685034000@www.northgatemarket.com
SUMMARY:San Diego County Public Health Mental Health Education Table - San Diego
DESCRIPTION:
URL:https://www.northgatemarket.com/community-event/san-diego-county-public-health-mental-health-education-table-san-diego-9
LOCATION:Northgate Market #21 –  1410 43rd San Diego\, 1410 43rd St\, San Diego\, CA\, 92113\, United States
END:VEVENT
BEGIN:VEVENT
DTSTART;TZID=America/Los_Angeles:20230519T150000
DTEND;TZID=America/Los_Angeles:20230519T170000
DTSTAMP:20260421T015559
CREATED:20230510T172110Z
LAST-MODIFIED:20230510T172110Z
UID:10000149-1684508400-1684515600@www.northgatemarket.com
SUMMARY:San Diego County Public Health Mental Health Education Table - San Diego
DESCRIPTION:
URL:https://www.northgatemarket.com/community-event/san-diego-county-public-health-mental-health-education-table-san-diego-3
LOCATION:Northgate Market #21 –  1410 43rd San Diego\, 1410 43rd St\, San Diego\, CA\, 92113\, United States
END:VEVENT
BEGIN:VEVENT
DTSTART;TZID=America/Los_Angeles:20230516T150000
DTEND;TZID=America/Los_Angeles:20230516T170000
DTSTAMP:20260421T015559
CREATED:20230510T165827Z
LAST-MODIFIED:20230510T165827Z
UID:10000141-1684249200-1684256400@www.northgatemarket.com
SUMMARY:San Diego County Public Health Mental Health Education Table - San Diego
DESCRIPTION:
URL:https://www.northgatemarket.com/community-event/san-diego-county-public-health-mental-health-education-table-san-diego
LOCATION:Northgate Market #21 –  1410 43rd San Diego\, 1410 43rd St\, San Diego\, CA\, 92113\, United States
END:VEVENT
BEGIN:VEVENT
DTSTART;TZID=America/Los_Angeles:20230504T150000
DTEND;TZID=America/Los_Angeles:20230504T170000
DTSTAMP:20260421T015559
CREATED:20230510T175903Z
LAST-MODIFIED:20230510T175903Z
UID:10000183-1683212400-1683219600@www.northgatemarket.com
SUMMARY:San Diego County Public Health Mental Health Education Table - San Diego
DESCRIPTION:
URL:https://www.northgatemarket.com/community-event/san-diego-county-public-health-mental-health-education-table-san-diego-8
LOCATION:Northgate Market #21 –  1410 43rd San Diego\, 1410 43rd St\, San Diego\, CA\, 92113\, United States
END:VEVENT
BEGIN:VEVENT
DTSTART;TZID=America/Los_Angeles:20230422T100000
DTEND;TZID=America/Los_Angeles:20230422T140000
DTSTAMP:20260421T015559
CREATED:20230403T174745Z
LAST-MODIFIED:20230403T174940Z
UID:10000079-1682157600-1682172000@www.northgatemarket.com
SUMMARY:Día del Niño Parking Lot Event - San Diego
DESCRIPTION:
URL:https://www.northgatemarket.com/community-event/dia-del-nino-parking-lot-event-san-diego
LOCATION:Northgate Market #21 –  1410 43rd San Diego\, 1410 43rd St\, San Diego\, CA\, 92113\, United States
END:VEVENT
BEGIN:VEVENT
DTSTART;TZID=America/Los_Angeles:20230325T150000
DTEND;TZID=America/Los_Angeles:20230325T163000
DTSTAMP:20260421T015559
CREATED:20230323T162939Z
LAST-MODIFIED:20230323T163008Z
UID:10000077-1679756400-1679761800@www.northgatemarket.com
SUMMARY:Come Meet Soccer Legends Luis "Zague" Roberto Alves & Moises Muñoz!
DESCRIPTION:
URL:https://www.northgatemarket.com/community-event/come-meet-soccer-legends-luis-zague-roberto-alves-moises-munoz
LOCATION:Northgate Market #21 –  1410 43rd San Diego\, 1410 43rd St\, San Diego\, CA\, 92113\, United States
END:VEVENT
BEGIN:VEVENT
DTSTART;TZID=America/Los_Angeles:20230131T090000
DTEND;TZID=America/Los_Angeles:20230131T144500
DTSTAMP:20260421T015559
CREATED:20230117T171212Z
LAST-MODIFIED:20230117T171212Z
UID:10000037-1675155600-1675176300@www.northgatemarket.com
SUMMARY:Physical Screenings for Children\, Flu Shots & COVID-19 Vaccines - San Diego
DESCRIPTION:
URL:https://www.northgatemarket.com/community-event/physical-screenings-for-children-flu-shots-covid-19-vaccines-san-diego-2
LOCATION:Northgate Market #21 –  1410 43rd San Diego\, 1410 43rd St\, San Diego\, CA\, 92113\, United States
END:VEVENT
BEGIN:VEVENT
DTSTART;TZID=America/Los_Angeles:20230111T100000
DTEND;TZID=America/Los_Angeles:20230111T160000
DTSTAMP:20260421T015559
CREATED:20230117T145935Z
LAST-MODIFIED:20230117T145935Z
UID:10000015-1673431200-1673452800@www.northgatemarket.com
SUMMARY:COVID-19 Vaccines & Boosters
DESCRIPTION:
URL:https://www.northgatemarket.com/community-event/covid-19-vaccines-boosters-2
LOCATION:Northgate Market #21 –  1410 43rd San Diego\, 1410 43rd St\, San Diego\, CA\, 92113\, United States
END:VEVENT
END:VCALENDAR