BEGIN:VCALENDAR
VERSION:2.0
PRODID:-//Northgate Market - ECPv6.15.20//NONSGML v1.0//EN
CALSCALE:GREGORIAN
METHOD:PUBLISH
X-WR-CALNAME:Northgate Market
X-ORIGINAL-URL:https://www.northgatemarket.com
X-WR-CALDESC:Events for Northgate Market
REFRESH-INTERVAL;VALUE=DURATION:PT1H
X-Robots-Tag:noindex
X-PUBLISHED-TTL:PT1H
BEGIN:VTIMEZONE
TZID:America/Los_Angeles
BEGIN:DAYLIGHT
TZOFFSETFROM:-0800
TZOFFSETTO:-0700
TZNAME:PDT
DTSTART:20210314T100000
END:DAYLIGHT
BEGIN:STANDARD
TZOFFSETFROM:-0700
TZOFFSETTO:-0800
TZNAME:PST
DTSTART:20211107T090000
END:STANDARD
BEGIN:DAYLIGHT
TZOFFSETFROM:-0800
TZOFFSETTO:-0700
TZNAME:PDT
DTSTART:20220313T100000
END:DAYLIGHT
BEGIN:STANDARD
TZOFFSETFROM:-0700
TZOFFSETTO:-0800
TZNAME:PST
DTSTART:20221106T090000
END:STANDARD
BEGIN:DAYLIGHT
TZOFFSETFROM:-0800
TZOFFSETTO:-0700
TZNAME:PDT
DTSTART:20230312T100000
END:DAYLIGHT
BEGIN:STANDARD
TZOFFSETFROM:-0700
TZOFFSETTO:-0800
TZNAME:PST
DTSTART:20231105T090000
END:STANDARD
BEGIN:DAYLIGHT
TZOFFSETFROM:-0800
TZOFFSETTO:-0700
TZNAME:PDT
DTSTART:20240310T100000
END:DAYLIGHT
BEGIN:STANDARD
TZOFFSETFROM:-0700
TZOFFSETTO:-0800
TZNAME:PST
DTSTART:20241103T090000
END:STANDARD
BEGIN:DAYLIGHT
TZOFFSETFROM:-0800
TZOFFSETTO:-0700
TZNAME:PDT
DTSTART:20250309T100000
END:DAYLIGHT
BEGIN:STANDARD
TZOFFSETFROM:-0700
TZOFFSETTO:-0800
TZNAME:PST
DTSTART:20251102T090000
END:STANDARD
END:VTIMEZONE
BEGIN:VEVENT
DTSTART;TZID=America/Los_Angeles:20241025T150000
DTEND;TZID=America/Los_Angeles:20241025T170000
DTSTAMP:20260420T021113
CREATED:20241015T183428Z
LAST-MODIFIED:20241015T183428Z
UID:10000571-1729868400-1729875600@www.northgatemarket.com
SUMMARY:Pico Pharmacy Flu and Covid Shots
DESCRIPTION:
URL:https://www.northgatemarket.com/community-event/pico-pharmacy-flu-and-covid-shots-6
LOCATION:Northgate Market #24 – Norwalk\, 11660 Firestone Blvd\, Norwalk
CATEGORIES:Northgate Market
END:VEVENT
BEGIN:VEVENT
DTSTART;TZID=America/Los_Angeles:20241018T150000
DTEND;TZID=America/Los_Angeles:20241018T170000
DTSTAMP:20260420T021113
CREATED:20241015T181251Z
LAST-MODIFIED:20241015T181251Z
UID:10000554-1729263600-1729270800@www.northgatemarket.com
SUMMARY:Pico Pharmacy Flu and Covid Shots
DESCRIPTION:
URL:https://www.northgatemarket.com/community-event/pico-pharmacy-flu-and-covid-shots-3
LOCATION:Northgate Market #24 – Norwalk\, 11660 Firestone Blvd\, Norwalk
CATEGORIES:Northgate Market
END:VEVENT
BEGIN:VEVENT
DTSTART;TZID=America/Los_Angeles:20241017T100000
DTEND;TZID=America/Los_Angeles:20241017T130000
DTSTAMP:20260420T021113
CREATED:20241015T175802Z
LAST-MODIFIED:20241015T175802Z
UID:10000544-1729159200-1729170000@www.northgatemarket.com
SUMMARY:Healthcare Career College Blood Pressure and Glucose Screenings
DESCRIPTION:
URL:https://www.northgatemarket.com/community-event/healthcare-career-college-blood-pressure-and-glucose-screenings-2
LOCATION:Northgate Market #24 – Norwalk\, 11660 Firestone Blvd\, Norwalk
CATEGORIES:Northgate Market
END:VEVENT
BEGIN:VEVENT
DTSTART;TZID=America/Los_Angeles:20240420T110000
DTEND;TZID=America/Los_Angeles:20240420T130000
DTSTAMP:20260420T021113
CREATED:20240409T064842Z
LAST-MODIFIED:20240409T183959Z
UID:10000501-1713610800-1713618000@www.northgatemarket.com
SUMMARY:Miguelito's Kids Classes – Make Tortas del Chavos del 8
DESCRIPTION:Date: 4/20/2024 – Time: 11:00 AM – 1:00 PM
URL:https://www.northgatemarket.com/community-event/miguelitos-kids-classes-make-tortas-del-chavos-del-8-2
LOCATION:Northgate Market #43 – Riverside\, 10391 Magnolia Ave\, Riverside
CATEGORIES:Dia del Niño Event,Northgate Market
ATTACH;FMTTYPE=image/png:https://www.northgatemarket.com/wp-content/uploads/2023/11/Miguelitos.png
END:VEVENT
BEGIN:VEVENT
DTSTART;TZID=America/Los_Angeles:20240222T100000
DTEND;TZID=America/Los_Angeles:20240222T150000
DTSTAMP:20260420T021113
CREATED:20240131T213859Z
LAST-MODIFIED:20240131T213859Z
UID:10000480-1708596000-1708614000@www.northgatemarket.com
SUMMARY:Aetna & Regal Medical Group Blood Pressure Screenings & Heart Education
DESCRIPTION:Store 7B (10:00 AM – 1:00 PM) \nStore 17 (10:00 AM – 2:00 PM) \nStore 24 (1:00 PM – 3:00 PM)
URL:https://www.northgatemarket.com/community-event/aetna-regal-medical-group-blood-pressure-screenings-heart-education-2
LOCATION:Northgate Market #7B – 2603 Westminster Santa Ana\, 2603 Westminister Ave\, Santa Ana\, CA\, 92706\, United States
CATEGORIES:Northgate Market
END:VEVENT
BEGIN:VEVENT
DTSTART;TZID=America/Los_Angeles:20240215T130000
DTEND;TZID=America/Los_Angeles:20240215T150000
DTSTAMP:20260420T021113
CREATED:20240131T210212Z
LAST-MODIFIED:20240131T210212Z
UID:10000466-1708002000-1708009200@www.northgatemarket.com
SUMMARY:Aetna Resource Table
DESCRIPTION:
URL:https://www.northgatemarket.com/community-event/aetna-resource-table-2
LOCATION:Northgate Market #24 – Norwalk\, 11660 Firestone Blvd\, Norwalk
CATEGORIES:Northgate Market
END:VEVENT
BEGIN:VEVENT
DTSTART;TZID=America/Los_Angeles:20240130T163000
DTEND;TZID=America/Los_Angeles:20240130T180000
DTSTAMP:20260420T021113
CREATED:20240111T204316Z
LAST-MODIFIED:20240111T204316Z
UID:10000443-1706632200-1706637600@www.northgatemarket.com
SUMMARY:Pico Pharmacy Covid Vaccines and Flu Shots
DESCRIPTION:
URL:https://www.northgatemarket.com/community-event/pico-pharmacy-covid-vaccines-and-flu-shots-11
LOCATION:Northgate Market #24 – Norwalk\, 11660 Firestone Blvd\, Norwalk
CATEGORIES:Northgate Market
END:VEVENT
BEGIN:VEVENT
DTSTART;TZID=America/Los_Angeles:20240123T163000
DTEND;TZID=America/Los_Angeles:20240123T180000
DTSTAMP:20260420T021113
CREATED:20240111T204008Z
LAST-MODIFIED:20240111T204008Z
UID:10000438-1706027400-1706032800@www.northgatemarket.com
SUMMARY:Pico Pharmacy Covid Vaccines and Flu shots
DESCRIPTION:
URL:https://www.northgatemarket.com/community-event/pico-pharmacy-covid-vaccines-and-flu-shots-8
LOCATION:Northgate Market #24 – Norwalk\, 11660 Firestone Blvd\, Norwalk
CATEGORIES:Northgate Market
END:VEVENT
BEGIN:VEVENT
DTSTART;TZID=America/Los_Angeles:20240116T163000
DTEND;TZID=America/Los_Angeles:20240116T183000
DTSTAMP:20260420T021113
CREATED:20240111T203404Z
LAST-MODIFIED:20240111T203404Z
UID:10000429-1705422600-1705429800@www.northgatemarket.com
SUMMARY:Pico Pharmacy Covid Vaccines and Flu shots
DESCRIPTION:
URL:https://www.northgatemarket.com/community-event/pico-pharmacy-covid-vaccines-and-flu-shots-5
LOCATION:Northgate Market #24 – Norwalk\, 11660 Firestone Blvd\, Norwalk
CATEGORIES:Northgate Market
END:VEVENT
BEGIN:VEVENT
DTSTART;TZID=America/Los_Angeles:20240109T163000
DTEND;TZID=America/Los_Angeles:20240109T180000
DTSTAMP:20260420T021113
CREATED:20240111T202923Z
LAST-MODIFIED:20240111T202923Z
UID:10000420-1704817800-1704823200@www.northgatemarket.com
SUMMARY:Pico Pharmacy Covid Vaccines and Flu shots
DESCRIPTION:
URL:https://www.northgatemarket.com/community-event/pico-pharmacy-covid-vaccines-and-flu-shots-3
LOCATION:Northgate Market #24 – Norwalk\, 11660 Firestone Blvd\, Norwalk
CATEGORIES:Northgate Market
END:VEVENT
BEGIN:VEVENT
DTSTART;TZID=America/Los_Angeles:20231030T130000
DTEND;TZID=America/Los_Angeles:20231030T150000
DTSTAMP:20260420T021113
CREATED:20231003T175536Z
LAST-MODIFIED:20231003T175536Z
UID:10000343-1698670800-1698678000@www.northgatemarket.com
SUMMARY:Los Angeles Public Health Dept Flu Clinic – Norwalk
DESCRIPTION:
URL:https://www.northgatemarket.com/community-event/los-angeles-public-health-dept-flu-clinic-norwalk
LOCATION:Northgate Market #24 – Norwalk\, 11660 Firestone Blvd\, Norwalk
END:VEVENT
BEGIN:VEVENT
DTSTART;TZID=America/Los_Angeles:20231005T090000
DTEND;TZID=America/Los_Angeles:20231005T130000
DTSTAMP:20260420T021113
CREATED:20231003T073744Z
LAST-MODIFIED:20231003T073744Z
UID:10000291-1696496400-1696510800@www.northgatemarket.com
SUMMARY:Alta Med Blood Pressure & Body Mass Index Screenings – Norwalk
DESCRIPTION:
URL:https://www.northgatemarket.com/community-event/alta-med-blood-pressure-body-mass-index-screenings-norwalk
LOCATION:Northgate Market #24 – Norwalk\, 11660 Firestone Blvd\, Norwalk
END:VEVENT
BEGIN:VEVENT
DTSTART;TZID=America/Los_Angeles:20230914T090000
DTEND;TZID=America/Los_Angeles:20230914T140000
DTSTAMP:20260420T021113
CREATED:20230907T024432Z
LAST-MODIFIED:20230907T024432Z
UID:10000256-1694682000-1694700000@www.northgatemarket.com
SUMMARY:Los Angeles Public Health Dept Mental Health Resource Table - Norwalk
DESCRIPTION:
URL:https://www.northgatemarket.com/community-event/los-angeles-public-health-dept-mental-health-resource-table-norwalk
LOCATION:Northgate Market #24 – Norwalk\, 11660 Firestone Blvd\, Norwalk
END:VEVENT
BEGIN:VEVENT
DTSTART;TZID=America/Los_Angeles:20230812T110000
DTEND;TZID=America/Los_Angeles:20230812T140000
DTSTAMP:20260420T021113
CREATED:20230816T230715Z
LAST-MODIFIED:20230816T230715Z
UID:10000212-1691838000-1691848800@www.northgatemarket.com
SUMMARY:Back to School Parking Lot Event w/free hair cuts and health screenings for students - Norwalk
DESCRIPTION:
URL:https://www.northgatemarket.com/community-event/back-to-school-parking-lot-event-w-free-hair-cuts-and-health-screenings-for-students-norwalk
LOCATION:Northgate Market #24 – Norwalk\, 11660 Firestone Blvd\, Norwalk
END:VEVENT
BEGIN:VEVENT
DTSTART;TZID=America/Los_Angeles:20230504T100000
DTEND;TZID=America/Los_Angeles:20230504T140000
DTSTAMP:20260420T021113
CREATED:20230510T175624Z
LAST-MODIFIED:20230510T175624Z
UID:10000181-1683194400-1683208800@www.northgatemarket.com
SUMMARY:Alta Med Blood Pressure\, Glucose & Diabetes screenings - Norwalk
DESCRIPTION:
URL:https://www.northgatemarket.com/community-event/alta-med-blood-pressure-glucose-diabetes-screenings-norwalk
LOCATION:Northgate Market #24 – Norwalk\, 11660 Firestone Blvd\, Norwalk
END:VEVENT
BEGIN:VEVENT
DTSTART;TZID=America/Los_Angeles:20230118T080000
DTEND;TZID=America/Los_Angeles:20230118T170000
DTSTAMP:20260420T021113
CREATED:20230117T152226Z
LAST-MODIFIED:20230117T152226Z
UID:10000019-1674028800-1674061200@www.northgatemarket.com
SUMMARY:COVID-19 Vaccines & Boosters - Norwalk
DESCRIPTION:
URL:https://www.northgatemarket.com/community-event/covid-19-vaccines-boosters-norwalk
LOCATION:Northgate Market #24 – Norwalk\, 11660 Firestone Blvd\, Norwalk
END:VEVENT
BEGIN:VEVENT
DTSTART;TZID=America/Los_Angeles:20220827T090000
DTEND;TZID=America/Los_Angeles:20220827T120000
DTSTAMP:20260420T021113
CREATED:20220806T152609Z
LAST-MODIFIED:20220808T204709Z
UID:10000008-1661590800-1661601600@www.northgatemarket.com
SUMMARY:Chile Roasting - Norwalk
DESCRIPTION:
URL:https://www.northgatemarket.com/community-event/chile-roasting-3
LOCATION:Northgate Market #24 – Norwalk\, 11660 Firestone Blvd\, Norwalk
END:VEVENT
END:VCALENDAR